BEGIN:VCALENDAR
VERSION:2.0
PRODID:icalendar-ruby
CALSCALE:GREGORIAN
METHOD:PUBLISH
BEGIN:VEVENT
DTSTAMP:20260423T065713Z
UID:10-317545@cornerstonepender.com
DTSTART:20260504T000000Z
DTEND:20260504T020000Z
CLASS:PUBLIC
CREATED:20260416T070617
DESCRIPTION:
LAST-MODIFIED:20260416T070617
LOCATION:
SUMMARY:Prayer Worship and Potluck
URL;VALUE=URI:https://www.cornerstonepender.com/events/prayer-worship-and-p
 otluck/2026-05-03
ATTACH;FILENAME=Prayer-Worship--Potluck-Night-May-3rd--5pm.jpg;FMTTYPE=imag
 e/jpeg:https://dq5pwpg1q8ru0.cloudfront.net/2026/04/16/14/05/59/75efe445-5
 dff-4447-ac2b-ee5603cf0ff2/Prayer-Worship--Potluck-Night-May-3rd--5pm.jpg
END:VEVENT
END:VCALENDAR
