BEGIN:VCALENDAR
VERSION:2.0
PRODID:icalendar-ruby
CALSCALE:GREGORIAN
METHOD:PUBLISH
BEGIN:VEVENT
DTSTAMP:20260423T071929Z
UID:11-317669@cornerstonepender.com
DTSTART:20260426T170000Z
DTEND:20260426T180500Z
CLASS:PUBLIC
CREATED:20260422T195055
DESCRIPTION:
LAST-MODIFIED:20260422T195055
LOCATION:805 Thurston Ave\, Pender\, NE 68047
SUMMARY:Sunday Worship
URL;VALUE=URI:https://www.cornerstonepender.com/events/sunday-worship/2026-
 04-26
ATTACH;FILENAME=100_05362-1.jpg;FMTTYPE=image/jpeg:https://dq5pwpg1q8ru0.cl
 oudfront.net/2026/04/23/02/50/55/1c071c0d-ad34-4577-96c0-2dc88f84f1e3/100_
 05362-1.jpg
END:VEVENT
END:VCALENDAR
